BEGIN:VCALENDAR
VERSION:2.0
PRODID:-//Transformational Medicine - ECPv6.15.16//NONSGML v1.0//EN
CALSCALE:GREGORIAN
METHOD:PUBLISH
X-WR-CALNAME:Transformational Medicine
X-ORIGINAL-URL:https://transformationalmedicine.org
X-WR-CALDESC:Events for Transformational Medicine
REFRESH-INTERVAL;VALUE=DURATION:PT1H
X-Robots-Tag:noindex
X-PUBLISHED-TTL:PT1H
BEGIN:VTIMEZONE
TZID:America/New_York
BEGIN:DAYLIGHT
TZOFFSETFROM:-0500
TZOFFSETTO:-0400
TZNAME:EDT
DTSTART:20240310T070000
END:DAYLIGHT
BEGIN:STANDARD
TZOFFSETFROM:-0400
TZOFFSETTO:-0500
TZNAME:EST
DTSTART:20241103T060000
END:STANDARD
BEGIN:DAYLIGHT
TZOFFSETFROM:-0500
TZOFFSETTO:-0400
TZNAME:EDT
DTSTART:20250309T070000
END:DAYLIGHT
BEGIN:STANDARD
TZOFFSETFROM:-0400
TZOFFSETTO:-0500
TZNAME:EST
DTSTART:20251102T060000
END:STANDARD
BEGIN:DAYLIGHT
TZOFFSETFROM:-0500
TZOFFSETTO:-0400
TZNAME:EDT
DTSTART:20260308T070000
END:DAYLIGHT
BEGIN:STANDARD
TZOFFSETFROM:-0400
TZOFFSETTO:-0500
TZNAME:EST
DTSTART:20261101T060000
END:STANDARD
BEGIN:DAYLIGHT
TZOFFSETFROM:-0500
TZOFFSETTO:-0400
TZNAME:EDT
DTSTART:20270314T070000
END:DAYLIGHT
BEGIN:STANDARD
TZOFFSETFROM:-0400
TZOFFSETTO:-0500
TZNAME:EST
DTSTART:20271107T060000
END:STANDARD
END:VTIMEZONE
BEGIN:VEVENT
DTSTART;TZID=America/New_York:20260128T190000
DTEND;TZID=America/New_York:20260128T203000
DTSTAMP:20260423T174828
CREATED:20251129T180017Z
LAST-MODIFIED:20260118T023307Z
UID:3364-1769626800-1769632200@transformationalmedicine.org
SUMMARY:EFT TAPPING Online Class
DESCRIPTION:Pain? Anxiety? Chronic symptoms? Life stuckness? Relationship or career stress? EFT (Emotional Freedom Technique) is a simple\, powerful tool for healing. You’ll learn how to use it—anytime\, anywhere. Each session includes guided practice and take-home tools. \n\n$39\nSmall class size for personalized guidance\nClass offered monthly\n\n🕐 7 – 8:30 pm ET 🔗 Register here \n⏰ Find your local time here
URL:https://transformationalmedicine.org/event/eft-tapping-online-class-4/
END:VEVENT
BEGIN:VEVENT
DTSTART;TZID=America/New_York:20260128T130000
DTEND;TZID=America/New_York:20260128T143000
DTSTAMP:20260423T174828
CREATED:20251129T175834Z
LAST-MODIFIED:20260118T023450Z
UID:3362-1769605200-1769610600@transformationalmedicine.org
SUMMARY:EFT TAPPING Online Class
DESCRIPTION:Pain? Anxiety? Chronic symptoms? Life stuckness? Relationship or career stress? EFT (Emotional Freedom Technique) is a simple\, powerful tool for healing. You’ll learn how to use it—anytime\, anywhere. Each session includes guided practice and take-home tools. \n\n$39\nSmall class size for personalized guidance\nClass offered monthly\n\n🕐 1 – 2:30 pm ET 🔗 Register here \n⏰ Find your local time here
URL:https://transformationalmedicine.org/event/eft-tapping-online-class-3/
END:VEVENT
BEGIN:VEVENT
DTSTART;TZID=America/New_York:20260121T190000
DTEND;TZID=America/New_York:20260121T200000
DTSTAMP:20260423T174828
CREATED:20260118T023149Z
LAST-MODIFIED:20260118T023149Z
UID:3384-1769022000-1769025600@transformationalmedicine.org
SUMMARY:ASK ME ANYTHING! Free Online Class
DESCRIPTION:Here’s your chance to ask Dr. Trish anything…Anything that’s on your mind\, whether it’s a health issue\, or something else. \nShe’ll answer your questions\, guide you in do-it-yourself mind-body medicine exercises to help address what’s going on for you\, and suggest resources of support. \nLearn more and register here : https://transformationalmedicine.org/ask-me-anything/
URL:https://transformationalmedicine.org/event/ask-me-anything-free-online-class-11/
END:VEVENT
BEGIN:VEVENT
DTSTART;TZID=America/New_York:20260121T130000
DTEND;TZID=America/New_York:20260121T140000
DTSTAMP:20260423T174828
CREATED:20260118T023044Z
LAST-MODIFIED:20260118T023044Z
UID:3382-1769000400-1769004000@transformationalmedicine.org
SUMMARY:ASK Me ANYTHING! Free Online Class
DESCRIPTION:Here’s your chance to ask Dr. Trish anything…Anything that’s on your mind\, whether it’s a health issue\, or something else. \nShe’ll answer your questions\, guide you in do-it-yourself mind-body medicine exercises to help address what’s going on for you\, and suggest resources of support. \nLearn more and register here : https://transformationalmedicine.org/ask-me-anything/
URL:https://transformationalmedicine.org/event/ask-me-anything-free-online-class-10/
END:VEVENT
BEGIN:VEVENT
DTSTART;TZID=America/New_York:20251210T190000
DTEND;TZID=America/New_York:20251210T200000
DTSTAMP:20260423T174828
CREATED:20251129T175533Z
LAST-MODIFIED:20251129T175533Z
UID:3360-1765393200-1765396800@transformationalmedicine.org
SUMMARY:ASK ME ANYTHING! Free Online Class
DESCRIPTION:Here’s your chance to ask Dr. Trish anything…Anything that’s on your mind\, whether it’s a health issue\, or something else. \nShe’ll answer your questions\, guide you in do-it-yourself mind-body medicine exercises to help address what’s going on for you\, and suggest resources of support. \nLearn more and register here : https://transformationalmedicine.org/ask-me-anything/
URL:https://transformationalmedicine.org/event/ask-me-anything-free-online-class-9/
END:VEVENT
BEGIN:VEVENT
DTSTART;TZID=America/New_York:20251209T130000
DTEND;TZID=America/New_York:20251209T140000
DTSTAMP:20260423T174828
CREATED:20251129T175408Z
LAST-MODIFIED:20251129T175408Z
UID:3358-1765285200-1765288800@transformationalmedicine.org
SUMMARY:ASK ME ANYTHING! Free Online Class
DESCRIPTION:Here’s your chance to ask Dr. Trish anything…Anything that’s on your mind\, whether it’s a health issue\, or something else. \nShe’ll answer your questions\, guide you in do-it-yourself mind-body medicine exercises to help address what’s going on for you\, and suggest resources of support. \nLearn more and register here : https://transformationalmedicine.org/ask-me-anything/
URL:https://transformationalmedicine.org/event/ask-me-anything-free-online-class-8/
END:VEVENT
BEGIN:VEVENT
DTSTART;TZID=America/New_York:20251119T130000
DTEND;TZID=America/New_York:20251119T143000
DTSTAMP:20260423T174828
CREATED:20251104T190432Z
LAST-MODIFIED:20251104T192506Z
UID:3336-1763557200-1763562600@transformationalmedicine.org
SUMMARY:EFT TAPPING Online Class
DESCRIPTION:Pain? Anxiety? Chronic symptoms? Life stuckness? Relationship or career stress? EFT (Emotional Freedom Technique) is a simple\, powerful tool for healing. You’ll learn how to use it—anytime\, anywhere. Each session includes guided practice and take-home tools. \n\n$39\nSmall class size for personalized guidance\nClass offered monthly\n\n🕐 1 – 2:30 pm ET 🔗 Register here \n⏰ Find your local time here
URL:https://transformationalmedicine.org/event/eft-tapping-online-class-2/
END:VEVENT
BEGIN:VEVENT
DTSTART;TZID=America/New_York:20251112T190000
DTEND;TZID=America/New_York:20251112T210000
DTSTAMP:20260423T174828
CREATED:20251104T191433Z
LAST-MODIFIED:20251104T192216Z
UID:3343-1762974000-1762981200@transformationalmedicine.org
SUMMARY:Online Class: THE 3 KEYS TO HEALING YOUSELF & TRANSFORMING YOUR LIFE
DESCRIPTION:In this experiential class\, you’ll discover 3 revolutionary principles for healing yourself and your life. \nYou’ll discover your unlimited capacity to heal and to thrive with ease\, not effort. \nAnd you’ll learn simple\, take-home tools to practice these principles in your daily life. \nMore info and to register: https://portal.edgarcaycenyc.org/Psychic-Portal-Readers-and-Programs/the-three-keys-to-healing-yourself-and-transforming-your-life/
URL:https://transformationalmedicine.org/event/online-class-the-3-keys-to-healing-youself-transforming-your-life/
END:VEVENT
BEGIN:VEVENT
DTSTART;TZID=America/New_York:20251105T190000
DTEND;TZID=America/New_York:20251105T200000
DTSTAMP:20260423T174828
CREATED:20251104T190845Z
LAST-MODIFIED:20251104T191714Z
UID:3341-1762369200-1762372800@transformationalmedicine.org
SUMMARY:ASK ME ANYTHING! Free Online Class
DESCRIPTION:Here’s your chance to ask me anything…Anything that’s on your mind\, whether it’s a health issue\, or something else. \nI’ll answer your questions\, guide you in do-it-yourself mind-body medicine exercises to help address what’s going on for you\, and suggest resources of support. \nLearn more and register here : https://transformationalmedicine.org/ask-me-anything/
URL:https://transformationalmedicine.org/event/ask-me-anytthing-free-online-class/
END:VEVENT
BEGIN:VEVENT
DTSTART;TZID=America/New_York:20251105T130000
DTEND;TZID=America/New_York:20251105T140000
DTSTAMP:20260423T174828
CREATED:20251104T190722Z
LAST-MODIFIED:20251104T191817Z
UID:3339-1762347600-1762351200@transformationalmedicine.org
SUMMARY:ASK ME ANYTHING! Free Online Class
DESCRIPTION:Here’s your chance to ask me anything…Anything that’s on your mind\, whether it’s a health issue\, or something else. \nI’ll answer your questions\, guide you in do-it-yourself mind-body medicine exercises to help address what’s going on for you\, and suggest resources of support. \nLearn more and register here : https://transformationalmedicine.org/ask-me-anything/
URL:https://transformationalmedicine.org/event/ask-me-anything-free-online-class-7/
END:VEVENT
BEGIN:VEVENT
DTSTART;TZID=America/New_York:20251104T080000
DTEND;TZID=America/New_York:20251104T170000
DTSTAMP:20260423T174828
CREATED:20251104T190225Z
LAST-MODIFIED:20251104T192708Z
UID:3333-1762243200-1762275600@transformationalmedicine.org
SUMMARY:EFT TAPPING Online Class
DESCRIPTION:Pain? Anxiety? Chronic symptoms? Life stuckness? Relationship or career stress? EFT (Emotional Freedom Technique) is a simple\, powerful tool for healing. You’ll learn how to use it—anytime\, anywhere. Each session includes guided practice and take-home tools. \n\n$39\nSmall class size for personalized guidance\nClass offered monthly\n\n🕐 7 – 8:30 pm ET 🔗 Register here \n⏰ Find your local time here
URL:https://transformationalmedicine.org/event/eft-tapping-online-class/
END:VEVENT
BEGIN:VEVENT
DTSTART;TZID=America/New_York:20251022T190000
DTEND;TZID=America/New_York:20251022T203000
DTSTAMP:20260423T174828
CREATED:20250901T163946Z
LAST-MODIFIED:20250901T164629Z
UID:3261-1761159600-1761165000@transformationalmedicine.org
SUMMARY:EFT TAPPING Online Class
DESCRIPTION:Pain? Anxiety? Chronic symptoms? Life stuckness? Relationship or career stress? EFT (Emotional Freedom Technique) is a simple\, powerful tool for healing. You’ll learn how to use it—anytime\, anywhere. Each session includes guided practice and take-home tools. \n\n$39\nSmall class size for personalized guidance\nClass offered monthly\n\n🕐 7 – 8:30 pm ET 🔗 Register here \n⏰ Find your local time here
URL:https://transformationalmedicine.org/event/eft-online-tapping-class-2/
END:VEVENT
BEGIN:VEVENT
DTSTART;TZID=America/New_York:20251022T130000
DTEND;TZID=America/New_York:20251022T143000
DTSTAMP:20260423T174828
CREATED:20250901T163836Z
LAST-MODIFIED:20250901T164609Z
UID:3258-1761138000-1761143400@transformationalmedicine.org
SUMMARY:EFT TAPPING Online Class
DESCRIPTION:Pain? Anxiety? Chronic symptoms? Life stuckness? Relationship or career stress? EFT (Emotional Freedom Technique) is a simple\, powerful tool for healing. You’ll learn how to use it—anytime\, anywhere. Each session includes guided practice and take-home tools. \n\n$39\nSmall class size for personalized guidance\nClass offered monthly\n\n🕐 1 – 2:30 pm ET 🔗 Register here \n⏰ Find your local time here
URL:https://transformationalmedicine.org/event/eft-online-tapping-class/
END:VEVENT
BEGIN:VEVENT
DTSTART;TZID=America/New_York:20251015T190000
DTEND;TZID=America/New_York:20251015T200000
DTSTAMP:20260423T174828
CREATED:20250829T075857Z
LAST-MODIFIED:20250829T075857Z
UID:3240-1760554800-1760558400@transformationalmedicine.org
SUMMARY:ASK ME ANYTHING! free online class
DESCRIPTION:Learn more and register here : https://transformationalmedicine.org/ask-me-anything/
URL:https://transformationalmedicine.org/event/ask-me-anything-free-online-class-oct-15/
END:VEVENT
BEGIN:VEVENT
DTSTART;TZID=America/New_York:20251014T130000
DTEND;TZID=America/New_York:20251014T140000
DTSTAMP:20260423T174828
CREATED:20250829T075808Z
LAST-MODIFIED:20250829T075808Z
UID:3238-1760446800-1760450400@transformationalmedicine.org
SUMMARY:ASK ME ANYTHING! free online class
DESCRIPTION:Learn more and register here : https://transformationalmedicine.org/ask-me-anything/
URL:https://transformationalmedicine.org/event/ask-me-anything-free-online-class-oct-14/
END:VEVENT
BEGIN:VEVENT
DTSTART;TZID=America/New_York:20251001T190000
DTEND;TZID=America/New_York:20251001T203000
DTSTAMP:20260423T174828
CREATED:20250811T032344Z
LAST-MODIFIED:20250828T154141Z
UID:3179-1759345200-1759350600@transformationalmedicine.org
SUMMARY:FOOD AS MEDICINE: A 2-Week Online Course
DESCRIPTION:Part of Dr. Trish’s Four Primary Medicines series and he Beyond Medicine course\, this course will transform the way you relate to food and nourishment\, and offer you take-home tools to make food your medicine. \n🗓️ Wednesdays\, September 24 & October 1\n🕐 Choose either 1 – 2:30 pm ET or 7 – 8:30 pm ET\n⏰ Find your local time here\n📹 Recording available if you can’t make it live \nYou’ll come to understand:\n✅ The myths and dogmas around food in both conventional and holistic circles\n✅ Why there are no one-size-fits-all diets—and no “shoulds” or “shouldn’ts”\n✅ How to identify the best foods for your unique constitution\n✅ Why “healthy” food may not be healthy for you\n✅ The intimate link between your emotions\, thoughts\, and digestion\n✅ How to make food your medicine \n💵 Cost: $89 \n➡️ 1 – 2:30 pm ET 🔗 Register here\n➡️ 7 – 8:30 pm ET 🔗 Register here \n❊ If cost is a concern\, please reach out for a reduced fee \n👉 If you’d like a refresher on the Four Primary Medicines\, you can read Dr. Trish’s recent newsletter here.
URL:https://transformationalmedicine.org/event/food-as-medicine-a-2-week-online-course-oct1-pm2/
END:VEVENT
BEGIN:VEVENT
DTSTART;TZID=America/New_York:20251001T130000
DTEND;TZID=America/New_York:20251001T143000
DTSTAMP:20260423T174828
CREATED:20250811T032505Z
LAST-MODIFIED:20250828T153534Z
UID:3181-1759323600-1759329000@transformationalmedicine.org
SUMMARY:FOOD AS MEDICINE: A 2-Week Online Course
DESCRIPTION:Part of Dr. Trish’s Four Primary Medicines series and he Beyond Medicine course\, this course will transform the way you relate to food and nourishment\, and offer you take-home tools to make food your medicine. \n🗓️ Wednesdays\, September 24 & October 1\n🕐 Choose either 1 – 2:30 pm ET or 7 – 8:30 pm ET\n⏰ Find your local time here\n📹 Recording available if you can’t make it live \nYou’ll come to understand:\n✅ The myths and dogmas around food in both conventional and holistic circles\n✅ Why there are no one-size-fits-all diets—and no “shoulds” or “shouldn’ts”\n✅ How to identify the best foods for your unique constitution\n✅ Why “healthy” food may not be healthy for you\n✅ The intimate link between your emotions\, thoughts\, and digestion\n✅ How to make food your medicine \n💵 Cost: $89 \n➡️ 1 – 2:30 pm ET 🔗 Register here\n➡️ 7 – 8:30 pm ET 🔗 Register here \n❊ If cost is a concern\, please reach out for a reduced fee \n👉 If you’d like a refresher on the Four Primary Medicines\, you can read Dr. Trish’s recent newsletter here.
URL:https://transformationalmedicine.org/event/food-as-medicine-a-2-week-online-course-oct1-pm1/
END:VEVENT
BEGIN:VEVENT
DTSTART;TZID=America/New_York:20250924T190000
DTEND;TZID=America/New_York:20250924T203000
DTSTAMP:20260423T174828
CREATED:20250806T072318Z
LAST-MODIFIED:20250828T153457Z
UID:3164-1758740400-1758745800@transformationalmedicine.org
SUMMARY:FOOD AS MEDICINE: A 2-Week Online Course
DESCRIPTION:Part of Dr. Trish’s Four Primary Medicines series and he Beyond Medicine course\, this course will transform the way you relate to food and nourishment\, and offer you take-home tools to make food your medicine. \n🗓️ Wednesdays\, September 24 & October 1\n🕐 Choose either 1 – 2:30 pm ET or 7 – 8:30 pm ET\n⏰ Find your local time here\n📹 Recording available if you can’t make it live \nYou’ll come to understand:\n✅ The myths and dogmas around food in both conventional and holistic circles\n✅ Why there are no one-size-fits-all diets—and no “shoulds” or “shouldn’ts”\n✅ How to identify the best foods for your unique constitution\n✅ Why “healthy” food may not be healthy for you\n✅ The intimate link between your emotions\, thoughts\, and digestion\n✅ How to make food your medicine \n💵 Cost: $89 \n➡️ 1 – 2:30 pm ET 🔗 Register here\n➡️ 7 – 8:30 pm ET 🔗 Register here \n❊ If cost is a concern\, please reach out for a reduced fee \n👉 If you’d like a refresher on the Four Primary Medicines\, you can read Dr. Trish’s recent newsletter here.
URL:https://transformationalmedicine.org/event/food-as-medicine-a-2-week-online-course-sept24-pm2/
END:VEVENT
BEGIN:VEVENT
DTSTART;TZID=America/New_York:20250924T130000
DTEND;TZID=America/New_York:20250924T143000
DTSTAMP:20260423T174828
CREATED:20250806T072205Z
LAST-MODIFIED:20250828T153429Z
UID:3162-1758718800-1758724200@transformationalmedicine.org
SUMMARY:FOOD AS MEDICINE: A 2-Week Online Course
DESCRIPTION:Part of Dr. Trish’s Four Primary Medicines series and he Beyond Medicine course\, this course will transform the way you relate to food and nourishment\, and offer you take-home tools to make food your medicine. \n🗓️ Wednesdays\, September 24 & October 1\n🕐 Choose either 1 – 2:30 pm ET or 7 – 8:30 pm ET\n⏰ Find your local time here\n📹 Recording available if you can’t make it live \nYou’ll come to understand:\n✅ The myths and dogmas around food in both conventional and holistic circles\n✅ Why there are no one-size-fits-all diets—and no “shoulds” or “shouldn’ts”\n✅ How to identify the best foods for your unique constitution\n✅ Why “healthy” food may not be healthy for you\n✅ The intimate link between your emotions\, thoughts\, and digestion\n✅ How to make food your medicine \n💵 Cost: $89 \n➡️ 1 – 2:30 pm ET 🔗 Register here\n➡️ 7 – 8:30 pm ET 🔗 Register here \n❊ If cost is a concern\, please reach out for a reduced fee \n👉 If you’d like a refresher on the Four Primary Medicines\, you can read Dr. Trish’s recent newsletter here.
URL:https://transformationalmedicine.org/event/food-as-medicine-a-2-week-online-course-sept24-pm1-2/
END:VEVENT
BEGIN:VEVENT
DTSTART;TZID=America/New_York:20250917T190000
DTEND;TZID=America/New_York:20250917T203000
DTSTAMP:20260423T174828
CREATED:20250731T143359Z
LAST-MODIFIED:20250901T164541Z
UID:3134-1758135600-1758141000@transformationalmedicine.org
SUMMARY:EFT TAPPING Online Class
DESCRIPTION:Pain? Anxiety? Chronic symptoms? Life stuckness? Relationship or career stress? EFT (Emotional Freedom Technique) is a simple\, powerful tool for healing. You’ll learn how to use it—anytime\, anywhere. Each session includes guided practice and take-home tools. \n\n$39\nSmall class size for personalized guidance\nClass offered monthly\n\n🕖 7 – 8:30 pm ET 🔗 Register here \n⏰ Find your local time here
URL:https://transformationalmedicine.org/event/eft-tapping-for-whatevers-going-on-sept17-pm2/
END:VEVENT
BEGIN:VEVENT
DTSTART;TZID=America/New_York:20250917T130000
DTEND;TZID=America/New_York:20250917T143000
DTSTAMP:20260423T174828
CREATED:20250731T143253Z
LAST-MODIFIED:20250901T164453Z
UID:3131-1758114000-1758119400@transformationalmedicine.org
SUMMARY:EFT TAPPING Online Class
DESCRIPTION:Pain? Anxiety? Chronic symptoms? Life stuckness? Relationship or career stress? EFT (Emotional Freedom Technique) is a simple\, powerful tool for healing. You’ll learn how to use it—anytime\, anywhere. Each session includes guided practice and take-home tools. \n\n$39\nSmall class size for personalized guidance\nClass offered monthly\n\n🕐 1 – 2:30 pm ET 🔗 Register here \n⏰ Find your local time here
URL:https://transformationalmedicine.org/event/eft-tapping-for-whatevers-going-on-sept17-pm1/
END:VEVENT
BEGIN:VEVENT
DTSTART;TZID=America/New_York:20250910T190000
DTEND;TZID=America/New_York:20250910T200000
DTSTAMP:20260423T174828
CREATED:20250602T072843Z
LAST-MODIFIED:20250811T032736Z
UID:2839-1757530800-1757534400@transformationalmedicine.org
SUMMARY:ASK ME ANYTHING! free online class
DESCRIPTION:Learn more and register here : https://transformationalmedicine.org/ask-me-anything/
URL:https://transformationalmedicine.org/event/ask-me-anything-free-online-class-september10/
END:VEVENT
BEGIN:VEVENT
DTSTART;TZID=America/New_York:20250909T130000
DTEND;TZID=America/New_York:20250909T140000
DTSTAMP:20260423T174828
CREATED:20250602T072735Z
LAST-MODIFIED:20250811T032745Z
UID:2837-1757422800-1757426400@transformationalmedicine.org
SUMMARY:ASK ME ANYTHING! free online class
DESCRIPTION:Learn more and register here : https://transformationalmedicine.org/ask-me-anything/
URL:https://transformationalmedicine.org/event/ask-me-anything-free-online-class-september9/
END:VEVENT
BEGIN:VEVENT
DTSTART;TZID=America/New_York:20250820T190000
DTEND;TZID=America/New_York:20250820T203000
DTSTAMP:20260423T174828
CREATED:20250801T134123Z
LAST-MODIFIED:20250809T184321Z
UID:3142-1755716400-1755721800@transformationalmedicine.org
SUMMARY:EFT TAPPING Online Class
DESCRIPTION:Pain? Anxiety? Chronic symptoms? Life stuckness? Relationship or career stress? EFT (Emotional Freedom Technique) is a simple\, powerful tool for healing. You’ll learn how to use it—anytime\, anywhere. Each session includes guided practice and take-home tools. \n\n$39\nSmall class size for personalized guidance\nClass offered monthly\n\n🕖 7 – 8:30 pm ET 🔗 Register here \n⏰ Find your local time here \nChoose the class that works for your time zone. Feel free to take both.
URL:https://transformationalmedicine.org/event/eft-tapping-for-whatevers-going-on-aug20-pm2/
END:VEVENT
BEGIN:VEVENT
DTSTART;TZID=America/New_York:20250820T130000
DTEND;TZID=America/New_York:20250820T143000
DTSTAMP:20260423T174828
CREATED:20250801T133522Z
LAST-MODIFIED:20250809T183840Z
UID:3137-1755694800-1755700200@transformationalmedicine.org
SUMMARY:EFT TAPPING Online Class
DESCRIPTION:Pain? Anxiety? Chronic symptoms? Life stuckness? Relationship or career stress? EFT (Emotional Freedom Technique) is a simple\, powerful tool for healing. You’ll learn how to use it—anytime\, anywhere. Each session includes guided practice and take-home tools. \n\n$39\nSmall class size for personalized guidance\nClass offered monthly\n\n🕐 1 – 2:30 pm ET 🔗 Register here \n⏰ Find your local time here \nChoose the class that works for your time zone. Feel free to take both.
URL:https://transformationalmedicine.org/event/eft-tapping-for-whatevers-going-on-aug20-pm1/
END:VEVENT
BEGIN:VEVENT
DTSTART;TZID=America/New_York:20250813T190000
DTEND;TZID=America/New_York:20250813T200000
DTSTAMP:20260423T174828
CREATED:20250602T072641Z
LAST-MODIFIED:20250811T032758Z
UID:2835-1755111600-1755115200@transformationalmedicine.org
SUMMARY:ASK ME ANYTHING! free online class
DESCRIPTION:Learn more and register here : https://transformationalmedicine.org/ask-me-anything/
URL:https://transformationalmedicine.org/event/ask-me-anything-free-online-class-august13/
END:VEVENT
BEGIN:VEVENT
DTSTART;TZID=America/New_York:20250812T130000
DTEND;TZID=America/New_York:20250812T140000
DTSTAMP:20260423T174828
CREATED:20250602T072538Z
LAST-MODIFIED:20250811T032807Z
UID:2833-1755003600-1755007200@transformationalmedicine.org
SUMMARY:ASK ME ANYTHING! free online class
DESCRIPTION:Learn more and register here : https://transformationalmedicine.org/ask-me-anything/
URL:https://transformationalmedicine.org/event/ask-me-anything-free-online-class-august12/
END:VEVENT
BEGIN:VEVENT
DTSTART;TZID=America/New_York:20250723T190000
DTEND;TZID=America/New_York:20250723T203000
DTSTAMP:20260423T174828
CREATED:20250710T123817Z
LAST-MODIFIED:20250716T170236Z
UID:3057-1753297200-1753302600@transformationalmedicine.org
SUMMARY:Food as Medicine: A 2-Week Online Course
DESCRIPTION:Part of Dr. Trish’s Four Primary Medicines series and my Beyond Medicine course\, this course will transform the way you relate to food and nourishment. \n🗓️ Wednesdays\, July 23 & July 30 \n🕐 Choose either 1 – 2:30 pm ET or 7 – 8:30 pm ET \n⏰ Find your local time here \nYou’ll come to understand: \n✅ The myths and dogmas around food in both conventional and holistic circles \n✅ Why there are no one-size-fits-all diets—and no “shoulds” or “shouldn’ts” \n✅ How to identify the best foods for your unique constitution \n✅ The intimate link between your emotions\, thoughts\, and digestion \n✅ How to make food your medicine \n💵 Cost: $89 \n➡️ 1 – 2:30 pm ET 🔗 Register here \n➡️ 7 – 8:30 pm ET 🔗 Register here \n✨ If cost is a concern\, please don’t hesitate to reach out. I’m happy to offer a discount if needed. \n  \n👉 If you’d like a refresher on the Four Primary Medicines\, you can Dr. Trish’s recent newsletter here.
URL:https://transformationalmedicine.org/event/food-as-medicine-a-2-week-mini-course-july23-pm2/
END:VEVENT
BEGIN:VEVENT
DTSTART;TZID=America/New_York:20250723T130000
DTEND;TZID=America/New_York:20250723T143000
DTSTAMP:20260423T174828
CREATED:20250710T123656Z
LAST-MODIFIED:20250716T170145Z
UID:3055-1753275600-1753281000@transformationalmedicine.org
SUMMARY:Food as Medicine: A 2-Week Online Course
DESCRIPTION:Part of Dr. Trish’s Four Primary Medicines series and my Beyond Medicine course\, this course will transform the way you relate to food and nourishment. \n🗓️ Wednesdays\, July 23 & July 30 \n🕐 Choose either 1 – 2:30 pm ET or 7 – 8:30 pm ET \n⏰ Find your local time here \nYou’ll come to understand: \n✅ The myths and dogmas around food in both conventional and holistic circles \n✅ Why there are no one-size-fits-all diets—and no “shoulds” or “shouldn’ts” \n✅ How to identify the best foods for your unique constitution \n✅ The intimate link between your emotions\, thoughts\, and digestion \n✅ How to make food your medicine \n💵 Cost: $89 \n➡️ 1 – 2:30 pm ET 🔗 Register here \n➡️ 7 – 8:30 pm ET 🔗 Register here \n✨ If cost is a concern\, please don’t hesitate to reach out. I’m happy to offer a discount if needed. \n👉 If you’d like a refresher on the Four Primary Medicines\, you can read Dr. Trish’s recent newsletter here.
URL:https://transformationalmedicine.org/event/food-as-medicine-a-2-week-mini-course-july23-pm1/
END:VEVENT
BEGIN:VEVENT
DTSTART;TZID=America/New_York:20250716T190000
DTEND;TZID=America/New_York:20250716T201500
DTSTAMP:20260423T174828
CREATED:20250710T122502Z
LAST-MODIFIED:20250710T122846Z
UID:3049-1752692400-1752696900@transformationalmedicine.org
SUMMARY:EFT Tapping for Whatever's Going On
DESCRIPTION:Pain? Anxiety? Chronic symptoms? Life stuckness? Relationship or career stress? EFT (Emotional Freedom Technique) is a simple\, powerful tool for healing. You’ll learn how to use it—anytime\, anywhere. Each session includes guided practice and take-home tools. \n\n$39\nAttendance limited to 4 participants\, so I can offer individual tapping sessions.\nI’ll be offering this class monthly\, if you can’t make it this time.\n\n🕐 1 – 2:15 pm ET 🔗 Register here \n🕖 7 – 8:15 pm ET 🔗 Register here \n⏰ Find your local time here \nChoose the class that works for your time zone. Feel free to take both.
URL:https://transformationalmedicine.org/event/eft-tapping-class-pm2/
END:VEVENT
END:VCALENDAR