BEGIN:VCALENDAR
VERSION:2.0
PRODID:-//Transformational Medicine - ECPv6.15.16//NONSGML v1.0//EN
CALSCALE:GREGORIAN
METHOD:PUBLISH
X-WR-CALNAME:Transformational Medicine
X-ORIGINAL-URL:https://transformationalmedicine.org
X-WR-CALDESC:Events for Transformational Medicine
REFRESH-INTERVAL;VALUE=DURATION:PT1H
X-Robots-Tag:noindex
X-PUBLISHED-TTL:PT1H
BEGIN:VTIMEZONE
TZID:America/New_York
BEGIN:DAYLIGHT
TZOFFSETFROM:-0500
TZOFFSETTO:-0400
TZNAME:EDT
DTSTART:20250309T070000
END:DAYLIGHT
BEGIN:STANDARD
TZOFFSETFROM:-0400
TZOFFSETTO:-0500
TZNAME:EST
DTSTART:20251102T060000
END:STANDARD
BEGIN:DAYLIGHT
TZOFFSETFROM:-0500
TZOFFSETTO:-0400
TZNAME:EDT
DTSTART:20260308T070000
END:DAYLIGHT
BEGIN:STANDARD
TZOFFSETFROM:-0400
TZOFFSETTO:-0500
TZNAME:EST
DTSTART:20261101T060000
END:STANDARD
BEGIN:DAYLIGHT
TZOFFSETFROM:-0500
TZOFFSETTO:-0400
TZNAME:EDT
DTSTART:20270314T070000
END:DAYLIGHT
BEGIN:STANDARD
TZOFFSETFROM:-0400
TZOFFSETTO:-0500
TZNAME:EST
DTSTART:20271107T060000
END:STANDARD
END:VTIMEZONE
BEGIN:VEVENT
DTSTART;TZID=America/New_York:20260415T130000
DTEND;TZID=America/New_York:20260415T140000
DTSTAMP:20260423T203609
CREATED:20260201T233813Z
LAST-MODIFIED:20260406T182305Z
UID:3390-1776258000-1776261600@transformationalmedicine.org
SUMMARY:ASK ME ANYTHING! Free Online Class
DESCRIPTION:Here’s your chance to ask Dr. Trish anything… \nAnything that’s on your mind\, whether it’s a health issue\, or something else. \nShe’ll answer your questions\, guide you in do-it-yourself mind-body medicine exercises to help address what’s going on for you\, and suggest resources of support. \nLearn more and register here: https://transformationalmedicine.org/ask-me-anything/
URL:https://transformationalmedicine.org/event/ask-me-anything-free-online-class-12/
END:VEVENT
BEGIN:VEVENT
DTSTART;TZID=America/New_York:20260415T190000
DTEND;TZID=America/New_York:20260415T200000
DTSTAMP:20260423T203609
CREATED:20260201T234035Z
LAST-MODIFIED:20260406T182553Z
UID:3392-1776279600-1776283200@transformationalmedicine.org
SUMMARY:ASK ME ANYTHING! Free Online Class
DESCRIPTION:Here’s your chance to ask Dr. Trish anything… \nAnything that’s on your mind\, whether it’s a health issue\, or something else. \nShe’ll answer your questions\, guide you in do-it-yourself mind-body medicine exercises to help address what’s going on for you\, and suggest resources of support. \nLearn more and register here: https://transformationalmedicine.org/ask-me-anything/
URL:https://transformationalmedicine.org/event/ask-me-anything-free-online-class-13/
END:VEVENT
BEGIN:VEVENT
DTSTART;TZID=America/New_York:20260422T130000
DTEND;TZID=America/New_York:20260422T143000
DTSTAMP:20260423T203609
CREATED:20260201T234839Z
LAST-MODIFIED:20260406T184900Z
UID:3394-1776862800-1776868200@transformationalmedicine.org
SUMMARY:EFT TAPPING Online Class
DESCRIPTION:Pain? Anxiety? Chronic symptoms? Life stuckness? Relationship or career stress? \nEFT (Emotional Freedom Technique) is a simple\, powerful tool for healing. You’ll learn how to use it—anytime\, anywhere. Each session includes guided practice and take-home tools. \n\n$39\nSmall class size for personalized guidance\nClass offered monthly\n\n\n🕐 1 – 2:30 pm ET 🔗 Register here\n \n⏰ Find your local time here
URL:https://transformationalmedicine.org/event/eft-tapping-online-class-5/
END:VEVENT
BEGIN:VEVENT
DTSTART;TZID=America/New_York:20260422T190000
DTEND;TZID=America/New_York:20260422T203000
DTSTAMP:20260423T203609
CREATED:20260201T235125Z
LAST-MODIFIED:20260406T185127Z
UID:3396-1776884400-1776889800@transformationalmedicine.org
SUMMARY:EFT TAPPING Online Class
DESCRIPTION:Pain? Anxiety? Chronic symptoms? Life stuckness? Relationship or career stress? \nEFT (Emotional Freedom Technique) is a simple\, powerful tool for healing. You’ll learn how to use it—anytime\, anywhere. Each session includes guided practice and take-home tools. \n\n$39\nSmall class size for personalized guidance\nClass offered monthly\n\n\n🕐 7 – 8:30 pm ET 🔗 Register here\n \n⏰ Find your local time here
URL:https://transformationalmedicine.org/event/eft-tapping-online-class-6/
END:VEVENT
END:VCALENDAR