BEGIN:VCALENDAR
VERSION:2.0
PRODID:-//Transformational Medicine - ECPv6.15.16//NONSGML v1.0//EN
CALSCALE:GREGORIAN
METHOD:PUBLISH
X-WR-CALNAME:Transformational Medicine
X-ORIGINAL-URL:https://transformationalmedicine.org
X-WR-CALDESC:Events for Transformational Medicine
REFRESH-INTERVAL;VALUE=DURATION:PT1H
X-Robots-Tag:noindex
X-PUBLISHED-TTL:PT1H
BEGIN:VTIMEZONE
TZID:America/New_York
BEGIN:DAYLIGHT
TZOFFSETFROM:-0500
TZOFFSETTO:-0400
TZNAME:EDT
DTSTART:20230312T070000
END:DAYLIGHT
BEGIN:STANDARD
TZOFFSETFROM:-0400
TZOFFSETTO:-0500
TZNAME:EST
DTSTART:20231105T060000
END:STANDARD
BEGIN:DAYLIGHT
TZOFFSETFROM:-0500
TZOFFSETTO:-0400
TZNAME:EDT
DTSTART:20240310T070000
END:DAYLIGHT
BEGIN:STANDARD
TZOFFSETFROM:-0400
TZOFFSETTO:-0500
TZNAME:EST
DTSTART:20241103T060000
END:STANDARD
BEGIN:DAYLIGHT
TZOFFSETFROM:-0500
TZOFFSETTO:-0400
TZNAME:EDT
DTSTART:20250309T070000
END:DAYLIGHT
BEGIN:STANDARD
TZOFFSETFROM:-0400
TZOFFSETTO:-0500
TZNAME:EST
DTSTART:20251102T060000
END:STANDARD
BEGIN:DAYLIGHT
TZOFFSETFROM:-0500
TZOFFSETTO:-0400
TZNAME:EDT
DTSTART:20260308T070000
END:DAYLIGHT
BEGIN:STANDARD
TZOFFSETFROM:-0400
TZOFFSETTO:-0500
TZNAME:EST
DTSTART:20261101T060000
END:STANDARD
END:VTIMEZONE
BEGIN:VEVENT
DTSTART;TZID=America/New_York:20250624T190000
DTEND;TZID=America/New_York:20250624T201500
DTSTAMP:20260423T192218
CREATED:20250620T065842Z
LAST-MODIFIED:20250620T093744Z
UID:2944-1750791600-1750796100@transformationalmedicine.org
SUMMARY:EFT Tapping Class
DESCRIPTION:I’m excited to invite you to a special series of online EFT classes\, happening over the next two weeks. Each class is stand-alone\, so you can take just one — or join as many as you like. \nEmotional Freedom Technique\, also known as EFT or “tapping\,” is an energy medicine technique that I’ve been using for myself and with my patients\, and I continue to be amazed at how speedy and effective it is. \nI’ll be teaching you how to “tap\,” and will be guiding you in tapping sessions during the class. \n👉 $39 per class \n👉 No prior experience needed \n👉 Attend any one or more \n🔗 Register here
URL:https://transformationalmedicine.org/event/eft-tapping-class-june-24/
END:VEVENT
BEGIN:VEVENT
DTSTART;TZID=America/New_York:20250611T190000
DTEND;TZID=America/New_York:20250611T200000
DTSTAMP:20260423T192218
CREATED:20250602T072236Z
LAST-MODIFIED:20250604T054638Z
UID:2827-1749668400-1749672000@transformationalmedicine.org
SUMMARY:ASK ME ANYTHING! free online class
DESCRIPTION:Learn more and register here : https://transformationalmedicine.org/ask-me-anything/
URL:https://transformationalmedicine.org/event/ask-me-anything-free-online-class-june11/
END:VEVENT
BEGIN:VEVENT
DTSTART;TZID=America/New_York:20250610T130000
DTEND;TZID=America/New_York:20250610T140000
DTSTAMP:20260423T192218
CREATED:20250602T072127Z
LAST-MODIFIED:20250604T054526Z
UID:2825-1749560400-1749564000@transformationalmedicine.org
SUMMARY:ASK ME ANYTHING! free online class
DESCRIPTION:Learn more and register here : https://transformationalmedicine.org/ask-me-anything/
URL:https://transformationalmedicine.org/event/ask-me-anything-free-online-class-june10/
END:VEVENT
BEGIN:VEVENT
DTSTART;TZID=America/New_York:20250514T190000
DTEND;TZID=America/New_York:20250514T200000
DTSTAMP:20260423T192218
CREATED:20250227T033701Z
LAST-MODIFIED:20250227T033701Z
UID:2770-1747249200-1747252800@transformationalmedicine.org
SUMMARY:ASK ME ANYTHING! free online class
DESCRIPTION:Learn more and register here : https://transformationalmedicine.org/ask-me-anything/
URL:https://transformationalmedicine.org/event/ask-me-anything-free-online-class-may14/
END:VEVENT
BEGIN:VEVENT
DTSTART;TZID=America/New_York:20250513T130000
DTEND;TZID=America/New_York:20250513T140000
DTSTAMP:20260423T192218
CREATED:20250227T033616Z
LAST-MODIFIED:20250227T033616Z
UID:2768-1747141200-1747144800@transformationalmedicine.org
SUMMARY:ASK ME ANYTHING! free online class
DESCRIPTION:Learn more and register here : https://transformationalmedicine.org/ask-me-anything/
URL:https://transformationalmedicine.org/event/ask-me-anything-free-online-class-may13/
END:VEVENT
BEGIN:VEVENT
DTSTART;TZID=America/New_York:20250423T190000
DTEND;TZID=America/New_York:20250423T200000
DTSTAMP:20260423T192218
CREATED:20250227T033456Z
LAST-MODIFIED:20250227T033456Z
UID:2766-1745434800-1745438400@transformationalmedicine.org
SUMMARY:ASK ME ANYTHING! free online class
DESCRIPTION:Learn more and register here : https://transformationalmedicine.org/ask-me-anything/
URL:https://transformationalmedicine.org/event/ask-me-anything-free-online-class-apr23/
END:VEVENT
BEGIN:VEVENT
DTSTART;TZID=America/New_York:20250422T130000
DTEND;TZID=America/New_York:20250422T140000
DTSTAMP:20260423T192218
CREATED:20250227T033333Z
LAST-MODIFIED:20250227T033333Z
UID:2764-1745326800-1745330400@transformationalmedicine.org
SUMMARY:ASK ME ANYTHING! free online class
DESCRIPTION:Learn more and register here : https://transformationalmedicine.org/ask-me-anything/
URL:https://transformationalmedicine.org/event/ask-me-anything-free-online-class-apr22/
END:VEVENT
BEGIN:VEVENT
DTSTART;TZID=America/New_York:20250320T130000
DTEND;TZID=America/New_York:20250320T140000
DTSTAMP:20260423T192218
CREATED:20250115T105559Z
LAST-MODIFIED:20250225T033104Z
UID:2745-1742475600-1742479200@transformationalmedicine.org
SUMMARY:ASK ME ANYTHING! free online class
DESCRIPTION:Learn more and register here : https://transformationalmedicine.org/ask-me-anything/
URL:https://transformationalmedicine.org/event/ask-me-anything-free-online-class-mar20/
END:VEVENT
BEGIN:VEVENT
DTSTART;TZID=America/New_York:20250319T190000
DTEND;TZID=America/New_York:20250319T200000
DTSTAMP:20260423T192218
CREATED:20250115T105447Z
LAST-MODIFIED:20250225T032926Z
UID:2742-1742410800-1742414400@transformationalmedicine.org
SUMMARY:ASK ME ANYTHING! free online class
DESCRIPTION:Learn more and register here : https://transformationalmedicine.org/ask-me-anything/
URL:https://transformationalmedicine.org/event/ask-me-anything-free-online-class-mar19/
END:VEVENT
BEGIN:VEVENT
DTSTART;TZID=America/New_York:20250213T130000
DTEND;TZID=America/New_York:20250213T140000
DTSTAMP:20260423T192218
CREATED:20250115T105226Z
LAST-MODIFIED:20250115T105243Z
UID:2740-1739451600-1739455200@transformationalmedicine.org
SUMMARY:ASK ME ANYTHING! free online class
DESCRIPTION:Learn more and register here : https://transformationalmedicine.org/ask-me-anything/
URL:https://transformationalmedicine.org/event/ask-me-anything-free-online-class-feb-13/
END:VEVENT
BEGIN:VEVENT
DTSTART;TZID=America/New_York:20250212T190000
DTEND;TZID=America/New_York:20250212T200000
DTSTAMP:20260423T192218
CREATED:20250115T105111Z
LAST-MODIFIED:20250115T105334Z
UID:2738-1739386800-1739390400@transformationalmedicine.org
SUMMARY:ASK ME ANYTHING! free online class
DESCRIPTION:Learn more and register here : https://transformationalmedicine.org/ask-me-anything/
URL:https://transformationalmedicine.org/event/ask-me-anything-free-online-class-feb-12/
END:VEVENT
BEGIN:VEVENT
DTSTART;TZID=America/New_York:20250116T130000
DTEND;TZID=America/New_York:20250116T140000
DTSTAMP:20260423T192218
CREATED:20250115T104941Z
LAST-MODIFIED:20250115T104941Z
UID:2736-1737032400-1737036000@transformationalmedicine.org
SUMMARY:ASK ME ANYTHING! free online class
DESCRIPTION:Learn more and register here : https://transformationalmedicine.org/ask-me-anything/
URL:https://transformationalmedicine.org/event/ask-me-anything-free-online-class-jan-16/
END:VEVENT
BEGIN:VEVENT
DTSTART;TZID=America/New_York:20250115T190000
DTEND;TZID=America/New_York:20250115T200000
DTSTAMP:20260423T192218
CREATED:20250115T104805Z
LAST-MODIFIED:20250115T104805Z
UID:2733-1736967600-1736971200@transformationalmedicine.org
SUMMARY:ASK ME ANYTHING! free online class
DESCRIPTION:Learn more and register here : https://transformationalmedicine.org/ask-me-anything/
URL:https://transformationalmedicine.org/event/ask-me-anything-free-online-class-jan-15/
END:VEVENT
BEGIN:VEVENT
DTSTART;TZID=America/New_York:20241224T130000
DTEND;TZID=America/New_York:20241224T143000
DTSTAMP:20260423T192218
CREATED:20240812T052705Z
LAST-MODIFIED:20240812T052705Z
UID:2564-1735045200-1735050600@transformationalmedicine.org
SUMMARY:YOUR ANSWERS LIE WITHIN online class
DESCRIPTION:Learn more and register here : https://patricia-muehsam.mykajabi.com/your-answers-lie-within
URL:https://transformationalmedicine.org/event/your-answers-lie-within-online-class-dec-24/
END:VEVENT
BEGIN:VEVENT
DTSTART;TZID=America/New_York:20241223T190000
DTEND;TZID=America/New_York:20241223T203000
DTSTAMP:20260423T192218
CREATED:20240812T052548Z
LAST-MODIFIED:20240812T052548Z
UID:2562-1734980400-1734985800@transformationalmedicine.org
SUMMARY:YOUR ANSWERS LIE WITHIN online class
DESCRIPTION:Learn more and register here : https://patricia-muehsam.mykajabi.com/your-answers-lie-within
URL:https://transformationalmedicine.org/event/your-answers-lie-within-online-class-dec-23/
END:VEVENT
BEGIN:VEVENT
DTSTART;TZID=America/New_York:20241219T130000
DTEND;TZID=America/New_York:20241219T150000
DTSTAMP:20260423T192218
CREATED:20240812T130353Z
LAST-MODIFIED:20250115T110053Z
UID:2608-1734613200-1734620400@transformationalmedicine.org
SUMMARY:LIVE Online Course: BEYOND MEDICINE
DESCRIPTION:BEYOND MEDICINE: A Physician’s Revolutionary Prescription for Healing Yourself and Transforming Your Life. \nA 4-month\, LIVE online course\, starting October 8 with Patricia Muehsam\, MD. \nPioneering physician\, award-winning author\, and founder of Transformational MedicineTM \nLearn more and register.
URL:https://transformationalmedicine.org/event/live-online-course-beyond-medicine-10-08-2024-2024-12-19/
ATTACH;FMTTYPE=image/png:https://transformationalmedicine.org/wp-content/uploads/2024/08/BMI.png
END:VEVENT
BEGIN:VEVENT
DTSTART;TZID=America/New_York:20241217T190000
DTEND;TZID=America/New_York:20241217T210000
DTSTAMP:20260423T192218
CREATED:20240812T130353Z
LAST-MODIFIED:20250115T110048Z
UID:2577-1734462000-1734469200@transformationalmedicine.org
SUMMARY:LIVE Online Course: BEYOND MEDICINE
DESCRIPTION:BEYOND MEDICINE: A Physician’s Revolutionary Prescription for Healing Yourself and Transforming Your Life. \nA 4-month\, LIVE online course\, starting October 8 with Patricia Muehsam\, MD. \nPioneering physician\, award-winning author\, and founder of Transformational MedicineTM \nLearn more and register.
URL:https://transformationalmedicine.org/event/live-online-course-beyond-medicine-10-08-2024-2024-12-17/
ATTACH;FMTTYPE=image/png:https://transformationalmedicine.org/wp-content/uploads/2024/08/BMI.png
END:VEVENT
BEGIN:VEVENT
DTSTART;TZID=America/New_York:20241212T130000
DTEND;TZID=America/New_York:20241212T140000
DTSTAMP:20260423T192218
CREATED:20240812T051758Z
LAST-MODIFIED:20240812T051758Z
UID:2552-1734008400-1734012000@transformationalmedicine.org
SUMMARY:ASK ME ANYTHING! free online class
DESCRIPTION:Learn more and register here : https://patricia-muehsam.mykajabi.com/ask-me-anything
URL:https://transformationalmedicine.org/event/ask-me-anything-free-online-class-dec-12/
END:VEVENT
BEGIN:VEVENT
DTSTART;TZID=America/New_York:20241211T190000
DTEND;TZID=America/New_York:20241211T200000
DTSTAMP:20260423T192218
CREATED:20240812T051628Z
LAST-MODIFIED:20240812T051701Z
UID:2550-1733943600-1733947200@transformationalmedicine.org
SUMMARY:ASK ME ANYTHING! free online class
DESCRIPTION:Learn more and register here : https://patricia-muehsam.mykajabi.com/ask-me-anything
URL:https://transformationalmedicine.org/event/ask-me-anything-free-online-class-dec-11/
END:VEVENT
BEGIN:VEVENT
DTSTART;TZID=America/New_York:20241205T130000
DTEND;TZID=America/New_York:20241205T150000
DTSTAMP:20260423T192218
CREATED:20240812T130353Z
LAST-MODIFIED:20250115T110047Z
UID:2607-1733403600-1733410800@transformationalmedicine.org
SUMMARY:LIVE Online Course: BEYOND MEDICINE
DESCRIPTION:BEYOND MEDICINE: A Physician’s Revolutionary Prescription for Healing Yourself and Transforming Your Life. \nA 4-month\, LIVE online course\, starting October 8 with Patricia Muehsam\, MD. \nPioneering physician\, award-winning author\, and founder of Transformational MedicineTM \nLearn more and register.
URL:https://transformationalmedicine.org/event/live-online-course-beyond-medicine-10-08-2024-2024-12-05/
ATTACH;FMTTYPE=image/png:https://transformationalmedicine.org/wp-content/uploads/2024/08/BMI.png
END:VEVENT
BEGIN:VEVENT
DTSTART;TZID=America/New_York:20241203T190000
DTEND;TZID=America/New_York:20241203T210000
DTSTAMP:20260423T192218
CREATED:20240812T130353Z
LAST-MODIFIED:20250115T110047Z
UID:2576-1733252400-1733259600@transformationalmedicine.org
SUMMARY:LIVE Online Course: BEYOND MEDICINE
DESCRIPTION:BEYOND MEDICINE: A Physician’s Revolutionary Prescription for Healing Yourself and Transforming Your Life. \nA 4-month\, LIVE online course\, starting October 8 with Patricia Muehsam\, MD. \nPioneering physician\, award-winning author\, and founder of Transformational MedicineTM \nLearn more and register.
URL:https://transformationalmedicine.org/event/live-online-course-beyond-medicine-10-08-2024-2024-12-03/
ATTACH;FMTTYPE=image/png:https://transformationalmedicine.org/wp-content/uploads/2024/08/BMI.png
END:VEVENT
BEGIN:VEVENT
DTSTART;TZID=America/New_York:20241126T130000
DTEND;TZID=America/New_York:20241126T143000
DTSTAMP:20260423T192218
CREATED:20240812T052354Z
LAST-MODIFIED:20240813T152343Z
UID:2558-1732626000-1732631400@transformationalmedicine.org
SUMMARY:YOUR ANSWERS LIE WITHIN online class
DESCRIPTION:Learn more and register here : https://patricia-muehsam.mykajabi.com/your-answers-lie-within
URL:https://transformationalmedicine.org/event/your-answers-lie-within-online-class-nov-26/
END:VEVENT
BEGIN:VEVENT
DTSTART;TZID=America/New_York:20241125T190000
DTEND;TZID=America/New_York:20241125T203000
DTSTAMP:20260423T192218
CREATED:20240812T052455Z
LAST-MODIFIED:20240813T152245Z
UID:2560-1732561200-1732566600@transformationalmedicine.org
SUMMARY:YOUR ANSWERS LIE WITHIN online class
DESCRIPTION:Learn more and register here : https://patricia-muehsam.mykajabi.com/your-answers-lie-within
URL:https://transformationalmedicine.org/event/your-answers-lie-within-online-class-nov-25/
END:VEVENT
BEGIN:VEVENT
DTSTART;TZID=America/New_York:20241121T130000
DTEND;TZID=America/New_York:20241121T150000
DTSTAMP:20260423T192218
CREATED:20240812T130353Z
LAST-MODIFIED:20250115T110047Z
UID:2606-1732194000-1732201200@transformationalmedicine.org
SUMMARY:LIVE Online Course: BEYOND MEDICINE
DESCRIPTION:BEYOND MEDICINE: A Physician’s Revolutionary Prescription for Healing Yourself and Transforming Your Life. \nA 4-month\, LIVE online course\, starting October 8 with Patricia Muehsam\, MD. \nPioneering physician\, award-winning author\, and founder of Transformational MedicineTM \nLearn more and register.
URL:https://transformationalmedicine.org/event/live-online-course-beyond-medicine-10-08-2024-2024-11-21/
ATTACH;FMTTYPE=image/png:https://transformationalmedicine.org/wp-content/uploads/2024/08/BMI.png
END:VEVENT
BEGIN:VEVENT
DTSTART;TZID=America/New_York:20241119T190000
DTEND;TZID=America/New_York:20241119T210000
DTSTAMP:20260423T192218
CREATED:20240812T130353Z
LAST-MODIFIED:20250115T110047Z
UID:2575-1732042800-1732050000@transformationalmedicine.org
SUMMARY:LIVE Online Course: BEYOND MEDICINE
DESCRIPTION:BEYOND MEDICINE: A Physician’s Revolutionary Prescription for Healing Yourself and Transforming Your Life. \nA 4-month\, LIVE online course\, starting October 8 with Patricia Muehsam\, MD. \nPioneering physician\, award-winning author\, and founder of Transformational MedicineTM \nLearn more and register.
URL:https://transformationalmedicine.org/event/live-online-course-beyond-medicine-10-08-2024-2024-11-19/
ATTACH;FMTTYPE=image/png:https://transformationalmedicine.org/wp-content/uploads/2024/08/BMI.png
END:VEVENT
BEGIN:VEVENT
DTSTART;TZID=America/New_York:20241114T130000
DTEND;TZID=America/New_York:20241114T140000
DTSTAMP:20260423T192218
CREATED:20240812T051528Z
LAST-MODIFIED:20240812T051544Z
UID:2548-1731589200-1731592800@transformationalmedicine.org
SUMMARY:ASK ME ANYTHING! free online class
DESCRIPTION:Learn more and register here : https://patricia-muehsam.mykajabi.com/ask-me-anything
URL:https://transformationalmedicine.org/event/ask-me-anything-free-online-class-nov14/
END:VEVENT
BEGIN:VEVENT
DTSTART;TZID=America/New_York:20241113T190000
DTEND;TZID=America/New_York:20241113T200000
DTSTAMP:20260423T192218
CREATED:20240812T051337Z
LAST-MODIFIED:20240812T071723Z
UID:2546-1731524400-1731528000@transformationalmedicine.org
SUMMARY:ASK ME ANYTHING! free online class
DESCRIPTION:Learn more and register here : https://patricia-muehsam.mykajabi.com/ask-me-anything
URL:https://transformationalmedicine.org/event/ask-me-anything-free-online-class-nov-13/
END:VEVENT
BEGIN:VEVENT
DTSTART;TZID=America/New_York:20241107T130000
DTEND;TZID=America/New_York:20241107T150000
DTSTAMP:20260423T192218
CREATED:20240812T130353Z
LAST-MODIFIED:20250115T110047Z
UID:2605-1730984400-1730991600@transformationalmedicine.org
SUMMARY:LIVE Online Course: BEYOND MEDICINE
DESCRIPTION:BEYOND MEDICINE: A Physician’s Revolutionary Prescription for Healing Yourself and Transforming Your Life. \nA 4-month\, LIVE online course\, starting October 8 with Patricia Muehsam\, MD. \nPioneering physician\, award-winning author\, and founder of Transformational MedicineTM \nLearn more and register.
URL:https://transformationalmedicine.org/event/live-online-course-beyond-medicine-10-08-2024-2024-11-07/
ATTACH;FMTTYPE=image/png:https://transformationalmedicine.org/wp-content/uploads/2024/08/BMI.png
END:VEVENT
BEGIN:VEVENT
DTSTART;TZID=America/New_York:20241105T190000
DTEND;TZID=America/New_York:20241105T210000
DTSTAMP:20260423T192218
CREATED:20240812T130353Z
LAST-MODIFIED:20250115T110046Z
UID:2574-1730833200-1730840400@transformationalmedicine.org
SUMMARY:LIVE Online Course: BEYOND MEDICINE
DESCRIPTION:BEYOND MEDICINE: A Physician’s Revolutionary Prescription for Healing Yourself and Transforming Your Life. \nA 4-month\, LIVE online course\, starting October 8 with Patricia Muehsam\, MD. \nPioneering physician\, award-winning author\, and founder of Transformational MedicineTM \nLearn more and register.
URL:https://transformationalmedicine.org/event/live-online-course-beyond-medicine-10-08-2024-2024-11-05/
ATTACH;FMTTYPE=image/png:https://transformationalmedicine.org/wp-content/uploads/2024/08/BMI.png
END:VEVENT
BEGIN:VEVENT
DTSTART;TZID=America/New_York:20241031T130000
DTEND;TZID=America/New_York:20241031T143000
DTSTAMP:20260423T192218
CREATED:20240812T052130Z
LAST-MODIFIED:20240813T151945Z
UID:2554-1730379600-1730385000@transformationalmedicine.org
SUMMARY:YOUR ANSWERS LIE WITHIN online class
DESCRIPTION:Learn more and register here : https://patricia-muehsam.mykajabi.com/your-answers-lie-within
URL:https://transformationalmedicine.org/event/your-answers-lie-within-online-class-oct-31/
END:VEVENT
END:VCALENDAR